BEGIN:VCALENDAR
VERSION:2.0
PRODID:-//CISCRP - ECPv5.16.4//NONSGML v1.0//EN
CALSCALE:GREGORIAN
METHOD:PUBLISH
X-WR-CALNAME:CISCRP
X-ORIGINAL-URL:https://legacy.ciscrp.org
X-WR-CALDESC:Events for CISCRP
BEGIN:VTIMEZONE
TZID:America/Mexico_City
BEGIN:DAYLIGHT
TZOFFSETFROM:-0600
TZOFFSETTO:-0500
TZNAME:CDT
DTSTART:20170402T080000
END:DAYLIGHT
BEGIN:STANDARD
TZOFFSETFROM:-0500
TZOFFSETTO:-0600
TZNAME:CST
DTSTART:20171029T070000
END:STANDARD
END:VTIMEZONE
BEGIN:VEVENT
DTSTART;TZID=America/Mexico_City:20171021T083000
DTEND;TZID=America/Mexico_City:20171021T103000
DTSTAMP:20260420T120101
CREATED:20170703T152311Z
LAST-MODIFIED:20190808T140841Z
UID:7687-1508574600-1508581800@legacy.ciscrp.org
SUMMARY:Medical Heroes Appreciation 5K Run & Walk - Topeka
DESCRIPTION:Donate »Complimentary T-shirt to all who register & participate!Join us for our Medical Heroes Appreciation 5K Run & Walk in Topeka\, KS to celebrate the study volunteers who give the gift of participation in clinical research. The event will be co-hosted by CISCRP and Stormont Vail Health. All proceeds will provide education and outreach about clinical research participation to patients and their families in minority and under-served communities. Thank you to our Event Supporters! For more information and to learn about sponsorship opportunities\,Interested in sponsorship opportunities or exhibiting onsite? Click Here to Email Ellyn Getz » Photo Gallery View the full Photo Gallery » It is said that the greatest gift is one which is given anonymously\, giving when you do not know whether you will get direct personal benefit. Medical Heroes give us this unique gift. Medical Heroes are the individuals who help advance public health and medical knowledge by taking part in clinical research trials. They are found in everyday places\, and they deserve our support and gratitude. Proceeds from this event will provide education and outreach to patients and their families. Our impact is powered by your generosity and dedication to our cause.
URL:https://legacy.ciscrp.org/event/medical-heroes-appreciation-5k-run-walk-topeka/
LOCATION:Cotton O’Neil Kanza Park\, 2660 S.W. Third Street\, Topeka\, KS\, 66606\, United States
CATEGORIES:Medical Heroes
ORGANIZER;CN="CISCRP":MAILTO:awareforall@ciscrp.org
GEO:39.0656467;-95.708079
X-APPLE-STRUCTURED-LOCATION;VALUE=URI;X-ADDRESS=Cotton O’Neil Kanza Park 2660 S.W. Third Street Topeka KS 66606 United States;X-APPLE-RADIUS=500;X-TITLE=2660 S.W. Third Street:geo:-95.708079,39.0656467
END:VEVENT
END:VCALENDAR