BEGIN:VCALENDAR
VERSION:2.0
PRODID:-//CISCRP - ECPv5.16.4//NONSGML v1.0//EN
CALSCALE:GREGORIAN
METHOD:PUBLISH
X-WR-CALNAME:CISCRP
X-ORIGINAL-URL:https://legacy.ciscrp.org
X-WR-CALDESC:Events for CISCRP
BEGIN:VTIMEZONE
TZID:America/Los_Angeles
BEGIN:DAYLIGHT
TZOFFSETFROM:-0800
TZOFFSETTO:-0700
TZNAME:PDT
DTSTART:20190310T100000
END:DAYLIGHT
BEGIN:STANDARD
TZOFFSETFROM:-0700
TZOFFSETTO:-0800
TZNAME:PST
DTSTART:20191103T090000
END:STANDARD
END:VTIMEZONE
BEGIN:VEVENT
DTSTART;TZID=America/Los_Angeles:20190624T063000
DTEND;TZID=America/Los_Angeles:20190624T073000
DTSTAMP:20260420T163157
CREATED:20180629T181814Z
LAST-MODIFIED:20190623T013101Z
UID:10138-1561357800-1561361400@legacy.ciscrp.org
SUMMARY:Medical Heroes Appreciation 5K Run & Walk - San Diego
DESCRIPTION:Join us for our Medical Heroes Appreciation 5K Run & Walk in San Diego\, CA to celebrate the study volunteers who give the gift of participation in clinical research. Prizes for top runners\, top fundraisers\, the team with the most spirit and more! Make sure to take advantage of our early-bird registration! Early-bird registration is $30 and closes on May 24th at 11:59PM. General registration is $40. Registration includes a free t-shirt and bib. There will be a bib raffle at the end of the 5K for a chance to win prizes! Must be present to win! All proceeds will provide education and outreach about clinical research participation to patients and their families in minority and under-served communities. This event will be held in conjunction with the DIA 2019 Global Annual Meeting.  The DIA 2019 Global Annual Meeting brings together thousands of biopharma researchers\, developers\, and regulators to drive innovation from the lab\, through regulatory approval\, to patients.  Designed to drive insights into action by connecting key policy discussions to real-world knowledge that you need to do your job every day\, your attendance will accelerate your growth and your organization’s performance in the development ecosystem. For more information and to learn about sponsorship opportunities\, please email Ellyn Getz. Event Highlights:– Complimentary breakfast– Bib raffle– Free 5K t-shirt– Educational Health Resources– Prizes for top finishers\, top fundraisers\, and teams with the most spirit Virtual Participants Welcome!You don’t have to be in San Diego to participate in this 5K – anyone can be a Virtual Runner or Walker! By joining us as a participant\, you can run or walk from any location you choose. Run\, jog\, walk around your neighborhood\, on a trail\, treadmill\, or at the gym. To participate as a Virtual Participant\, simply choose the ‘Virtual Runner/Walker’ option when you register for the Medical Heroes Appreciation 5K\, and we’ll send you a t-shirt. Take a picture of yourself in the Med Hero 5K shirt and email it to medheroevents@ciscrp.org so we can add it to our 5K event gallery.								\n				\n				\n				\n							\n			\n						\n		\n						\n				\n				\n						\n					\n			\n						\n				\n									\n					\n						\n									REGISTER NOW\n					\n					\n				\n								\n				\n					\n		\n				\n			\n						\n				\n									\n					\n						\n									DONATE TODAY\n					\n					\n				\n								\n				\n					\n		\n				\n			\n						\n				\n									\n					\n						\n									EVENT SUPPORTERS
URL:https://legacy.ciscrp.org/event/medical-heroes-appreciation-5k-run-walk-san-diego/
LOCATION:Embarcadero Marina Park North\, 400 Kettner Blvd\, San Diego\, CA\, 92101\, United States
CATEGORIES:Medical Heroes
END:VEVENT
END:VCALENDAR