BEGIN:VCALENDAR
VERSION:2.0
PRODID:-//CISCRP - ECPv5.16.4//NONSGML v1.0//EN
CALSCALE:GREGORIAN
METHOD:PUBLISH
X-WR-CALNAME:CISCRP
X-ORIGINAL-URL:https://legacy.ciscrp.org
X-WR-CALDESC:Events for CISCRP
BEGIN:VTIMEZONE
TZID:America/New_York
BEGIN:DAYLIGHT
TZOFFSETFROM:-0500
TZOFFSETTO:-0400
TZNAME:EDT
DTSTART:20180311T070000
END:DAYLIGHT
BEGIN:STANDARD
TZOFFSETFROM:-0400
TZOFFSETTO:-0500
TZNAME:EST
DTSTART:20181104T060000
END:STANDARD
END:VTIMEZONE
BEGIN:VEVENT
DTSTART;TZID=America/New_York:20180625T063000
DTEND;TZID=America/New_York:20180625T081500
DTSTAMP:20260420T194747
CREATED:20170703T150802Z
LAST-MODIFIED:20170703T150802Z
UID:7674-1529908200-1529914500@legacy.ciscrp.org
SUMMARY:Medical Heroes Appreciation 5K Run & Walk - Boston
DESCRIPTION:Register for Event » Donate » 5K Fast Facts »\nComplimentary T-shirt and giveaways to all who register & participate!\nJoin us for our Medical Heroes Appreciation 5K Run & Walk in Boston\, MA to celebrate the study volunteers who give the gift of participation in clinical research. Prizes for top runners\, top fundraisers\, the team with the most spirit and more! \nAll proceeds will provide education and outreach about clinical research participation to patients and their families in minority and under-served communities. This event will be held in conjunction with the DIA 2018 Global Annual Meeting.  \n  \n[one_sixth][/one_sixth][three_fourth]The DIA 2018 Global Annual Meeting brings together thousands of biopharma researchers\, developers\, and regulators to drive innovation from the lab\, through regulatory approval\, to patients.  Designed to drive insights into action by connecting key policy discussions to real-world knowledge that you need to do your job every day\, your attendance will accelerate your growth and your organization’s performance in the development ecosystem.[/three_fourth] \n \nFor more information and to learn about sponsorship opportunities\, please email Ellyn Getz. \n\nPhoto Gallery\n \nView the full Photo Gallery » \n\nIt is said that the greatest gift is one which is given anonymously\, giving when you do not know whether you will get direct personal benefit. Medical Heroes give us this unique gift. \nMedical Heroes are the individuals who help advance public health and medical knowledge by taking part in clinical research trials. They are found in everyday places\, and they deserve our support and gratitude. Proceeds from this event will provide education and outreach to patients and their families. Our impact is powered by your generosity and dedication to our cause.
URL:https://legacy.ciscrp.org/event/medical-heroes-appreciation-5k-run-walk-boston/
LOCATION:Head Island Causeway at Castle Island\, 1912 William J Day Blvd\, Boston\, MA\, 02127\, United States
CATEGORIES:Medical Heroes
ORGANIZER;CN="CISCRP":MAILTO:awareforall@ciscrp.org
GEO:42.3335253;-71.0231926
X-APPLE-STRUCTURED-LOCATION;VALUE=URI;X-ADDRESS=Head Island Causeway at Castle Island 1912 William J Day Blvd Boston MA 02127 United States;X-APPLE-RADIUS=500;X-TITLE=1912 William J Day Blvd:geo:-71.0231926,42.3335253
END:VEVENT
END:VCALENDAR