BEGIN:VCALENDAR
VERSION:2.0
PRODID:-//CISCRP - ECPv5.16.4//NONSGML v1.0//EN
CALSCALE:GREGORIAN
METHOD:PUBLISH
X-WR-CALNAME:CISCRP
X-ORIGINAL-URL:https://legacy.ciscrp.org
X-WR-CALDESC:Events for CISCRP
BEGIN:VTIMEZONE
TZID:America/New_York
BEGIN:DAYLIGHT
TZOFFSETFROM:-0500
TZOFFSETTO:-0400
TZNAME:EDT
DTSTART:20160313T070000
END:DAYLIGHT
BEGIN:STANDARD
TZOFFSETFROM:-0400
TZOFFSETTO:-0500
TZNAME:EST
DTSTART:20161106T060000
END:STANDARD
END:VTIMEZONE
BEGIN:VEVENT
DTSTART;TZID=America/New_York:20160416T063000
DTEND;TZID=America/New_York:20160416T081500
DTSTAMP:20260420T193938
CREATED:20160204T195057Z
LAST-MODIFIED:20190808T212343Z
UID:5387-1460788200-1460794500@legacy.ciscrp.org
SUMMARY:Medical Heroes Appreciation 5K - Atlanta
DESCRIPTION:On April 16\, 2016\, CISCRP and the Association for Clinical Research Professionals (ACRP) hosted the Medical Heroes Appreciation 5K Run & Walk in Atlanta\, GA at ACRP’s 2016 Global Conference and Exhibition. This event is to celebrate the study volunteers who give the gift of participation in clinical research. \n\nFor more information and to learn about sponsorship opportunities\,\nplease email Ellyn at ellyngetz@ciscrp.org or call us at 617-725-2750. \n\n\nEvent Sponsors\n\n \n\n\nPhoto Gallery\n \n\nIt is said that the greatest gift is one which is given anonymously\, giving when you do not know whether you will get direct personal benefit. Medical Heroes give us this unique gift. \nMedical Heroes are the individuals who help advance public health and medical knowledge by taking part in clinical research trials. They are found in everyday places\, and they deserve our support and gratitude. Proceeds from this event provide education and outreach to patients and their families. Our impact is powered by your generosity and dedication to our cause.
URL:https://legacy.ciscrp.org/event/medical-heroes-appreciation-5k-atlanta/
LOCATION:Freedom Park Pathway (at the intersection of John Wesley Dobbs Avenue and Howell Street)\, 540 John Wesley Dobbs Avenue\, Atlanta\, GA\, 30312\, United States
CATEGORIES:Medical Heroes
ATTACH;FMTTYPE=image/jpeg:https://legacy.ciscrp.org/wp-content/uploads/2016/02/MedHero_5K-Atlanta-01.jpg
ORGANIZER;CN="CISCRP%20Med%20Hero%205K%20Events":MAILTO:medheroevents@ciscrp.org
END:VEVENT
END:VCALENDAR