BEGIN:VCALENDAR
VERSION:2.0
PRODID:-//CISCRP - ECPv5.16.4//NONSGML v1.0//EN
CALSCALE:GREGORIAN
METHOD:PUBLISH
X-WR-CALNAME:CISCRP
X-ORIGINAL-URL:https://legacy.ciscrp.org
X-WR-CALDESC:Events for CISCRP
BEGIN:VTIMEZONE
TZID:America/New_York
BEGIN:DAYLIGHT
TZOFFSETFROM:-0500
TZOFFSETTO:-0400
TZNAME:EDT
DTSTART:20220313T070000
END:DAYLIGHT
BEGIN:STANDARD
TZOFFSETFROM:-0400
TZOFFSETTO:-0500
TZNAME:EST
DTSTART:20221106T060000
END:STANDARD
END:VTIMEZONE
BEGIN:VEVENT
DTSTART;TZID=America/New_York:20220519T170000
DTEND;TZID=America/New_York:20220519T200000
DTSTAMP:20260420T221052
CREATED:20211229T161747Z
LAST-MODIFIED:20220613T124730Z
UID:30598-1652979600-1652990400@legacy.ciscrp.org
SUMMARY:Journey to Better Health | AWARE for All-NYC
DESCRIPTION:Thank You for Attending Journey to Better Health | AWARE for All New York City								\n				\n				\n				\n									This free community event was held on May 19th\, from 5-8 PM at The New York Academy of Medicine in NYC. Attendees had the opportunity to learn more about clinical trials\, hear personal experiences from those who are involved in them\, and connect with a variety of local health and wellness organizations to find out more about their programs and services.								\n				\n				\n				\n									Hear From: \n\nDr. Edith Bracho-Sanchez\, MD\, primary care pediatrician at Columbia University Irving Medical Center\, writer and on air medical expert for CNN\, Univision\, Telemundo\, and ABC.\nRivka Szafranski\,  CEO and Lead Patient Advocate\, Clinical Trial GuideColumbus Gaskin\, Lupus Clinical Trial Participant\nAshley Giacobbi\, Clinical Trial Nurse Navigator\, Clinical Trial Support Center\, Leukemia & Lymphoma Society\nShira Kaplan-Walker\, Lupus Clinical Trial Participant\, Lupus Research Alliance\nPankaj Patel\, Head of Diversity & Inclusion for Clinical Trials\, R&D\, IQVIA\nEllyn Getz\, Director\, R&D Patient Partnerships\, R&D Strategic Operations\, CSL Behring\nMakeida Stubbs\, Clinical Trial Diversity Operations Lead\, Pfizer\n\nEvent Agenda: \n•5:00 PM: The Informational Exhibit Center opens \n\nVisit exhibits from research\, advocacy\, community\, and wellness organizations.\nAccess free HIV and Hepatitis C (HCV) health screenings\n\n•6:00 PM: Welcome & Opening Remarks \n\n•6:10-6:30 PM: Clinical Research Overview Presentation \n\nTopics include: the basics of the clinical trial process\, the safeguards in place\, the importance of diversity in trials\, and more.\n\n• 6:30-7:30 PM: Speaker Panel \n\nHear from knowledgeable healthcare and research professionals\, and from community members who have participated in a clinical trial.\n\n• 7:30-7:45 PM: Closing Remarks & Raffle \n								\n				\n				\n						\n					\n			\n						\n				\n									Download the Event Program Handbook 								\n				\n					\n		\n				\n			\n						\n				\n									\n					\n						\n									English\n					\n					\n				\n								\n				\n					\n		\n				\n			\n						\n				\n									\n					\n						\n									Español
URL:https://legacy.ciscrp.org/event/journey-to-better-health-aware-for-all-nyc/
LOCATION:New York Academy of Medicine\, 1216 5th Ave\, New York\, NY\, 10029\, United States
CATEGORIES:AWARE for All
END:VEVENT
END:VCALENDAR