BEGIN:VCALENDAR
VERSION:2.0
PRODID:-//CISCRP - ECPv5.16.4//NONSGML v1.0//EN
CALSCALE:GREGORIAN
METHOD:PUBLISH
X-WR-CALNAME:CISCRP
X-ORIGINAL-URL:https://legacy.ciscrp.org
X-WR-CALDESC:Events for CISCRP
BEGIN:VTIMEZONE
TZID:America/Los_Angeles
BEGIN:DAYLIGHT
TZOFFSETFROM:-0800
TZOFFSETTO:-0700
TZNAME:PDT
DTSTART:20200308T100000
END:DAYLIGHT
BEGIN:STANDARD
TZOFFSETFROM:-0700
TZOFFSETTO:-0800
TZNAME:PST
DTSTART:20201101T090000
END:STANDARD
END:VTIMEZONE
BEGIN:VEVENT
DTSTART;TZID=America/Los_Angeles:20201118T160000
DTEND;TZID=America/Los_Angeles:20201118T180000
DTSTAMP:20260420T233637
CREATED:20201012T203036Z
LAST-MODIFIED:20210830T185459Z
UID:16631-1605715200-1605722400@legacy.ciscrp.org
SUMMARY:AWARE for All - Los Angeles | VIRTUAL EVENT
DESCRIPTION:Webinar and Virtual Health Fair								\n				\n				\n						\n					\n			\n						\n				\n									\n					\n						\n						\n							\n									Watch the Webinar Recording\n					\n					\n				\n								\n				\n					\n		\n				\n			\n						\n				\n									\n					\n						\n						\n							\n									Visit the Virtual Health Fair\n					\n					\n				\n								\n				\n					\n		\n					\n		\n				\n				\n																														\n				\n				\n				\n							\n			\n						\n		\n						\n				\n					\n		\n					\n		\n				\n						\n					\n			\n						\n				\n									Taking good care of your health is one of the most important things you can do for yourself. At the AWARE for All – Los Angeles Webinar\, you’ll: Hear personal stories from patients who participated in clinical trialsListen to medical staff members on how they help patients participating in clinical trialsHear from patients on why they chose to participate and their decision-making thoughtsHave fun with quick and easy 5-minute exercisesReceive a free downloadable booklet with lots of helpful information about clinical research—available in English and SpanishYou don’t have to be sick to participate in clinical research. There are a lot of clinical studies that focus on improving general health\, like issues with allergies\, skincare\, anxiety issues\, cholesterol\, and so much more. 								\n				\n				\n				\n									Webinar Agenda 4:00 PM—4:05 PM: Welcome from CISCRP4:10 PM – 4:40 PM: Overview Presentation:What is clinical research\, how does the process work\, and who is involved?4:55 PM—5:00 PM:  Health ExerciseAlzheimer’s LA Memory/Brain exercise5:00 PM—5:35 PM: A Conversation with Patients and Health Professionals + Q&A5:40 PM—5:45 PM: Health ExerciseReiki with WeSPARK Cancer Support Center5:50 PM—6:00 PM: Med Hero Ceremony & Raffle  								\n				\n				\n						\n					\n			\n						\n				\n					Download the Event Program Handbook:  				\n				\n					\n		\n				\n			\n						\n				\n									\n					\n						\n									English\n					\n					\n				\n								\n				\n					\n		\n				\n			\n						\n				\n									\n					\n						\n									Español
URL:https://legacy.ciscrp.org/event/awarela-virtual-event/
LOCATION:Webinar\, Los Angeles\, CA\, United States
CATEGORIES:AWARE for All
END:VEVENT
END:VCALENDAR