BEGIN:VCALENDAR
VERSION:2.0
PRODID:-//CISCRP - ECPv5.16.4//NONSGML v1.0//EN
CALSCALE:GREGORIAN
METHOD:PUBLISH
X-WR-CALNAME:CISCRP
X-ORIGINAL-URL:https://legacy.ciscrp.org
X-WR-CALDESC:Events for CISCRP
BEGIN:VTIMEZONE
TZID:America/New_York
BEGIN:DAYLIGHT
TZOFFSETFROM:-0500
TZOFFSETTO:-0400
TZNAME:EDT
DTSTART:20170312T070000
END:DAYLIGHT
BEGIN:STANDARD
TZOFFSETFROM:-0400
TZOFFSETTO:-0500
TZNAME:EST
DTSTART:20171105T060000
END:STANDARD
END:VTIMEZONE
BEGIN:VEVENT
DTSTART;TZID=America/New_York:20171115T170000
DTEND;TZID=America/New_York:20171115T200000
DTSTAMP:20260420T145045
CREATED:20170915T192930Z
LAST-MODIFIED:20190807T190114Z
UID:8518-1510765200-1510776000@legacy.ciscrp.org
SUMMARY:AWARE for All - Wilmington
DESCRIPTION:DONATE TODAY\n					\n					\n				\n								\n				\n					\n		\n				\n			\n						\n				\n									\n					\n						\n									EVENT HANDBOOK\n					\n					\n				\n								\n				\n					\n		\n					\n		\n				\n				\n							\n			\n						\n		\n						\n				\n					\n		\n					\n		\n				\n						\n					\n			\n						\n				\n									On Wednesday\, November 15th\, 2017 in Wilmington\, NC\, local community members\, patients\, and research professionals came together to learn about clinical research\, received free health screenings\, and heard from physician and patient speakers.AWARE for All is a free educational program that provides valuable information and resources on the clinical research process to help people make informed decisions about participation. The event serves as a platform for dialogue between local patients\, members of the public\, and research professionals. This program is made possible by the incredible community partners we collaborate with in every city.   For more information\, please contact us at awareforall@ciscrp.org or call us at 617-725-2750.   Thank You to Our 2017 Sponsors!  Photo Gallery
URL:https://legacy.ciscrp.org/event/aware-for-all-wilmington/
LOCATION:The Burney Center at UNC – Wilmington\, 601 S College Road\, Wilmington\, NC\, 28403\, United States
CATEGORIES:AWARE for All
ORGANIZER;CN="CISCRP":MAILTO:awareforall@ciscrp.org
GEO:34.22714;-77.87928
X-APPLE-STRUCTURED-LOCATION;VALUE=URI;X-ADDRESS=The Burney Center at UNC – Wilmington 601 S College Road Wilmington NC 28403 United States;X-APPLE-RADIUS=500;X-TITLE=601 S College Road:geo:-77.87928,34.22714
END:VEVENT
END:VCALENDAR