BEGIN:VCALENDAR
VERSION:2.0
PRODID:-//CISCRP - ECPv5.16.4//NONSGML v1.0//EN
CALSCALE:GREGORIAN
METHOD:PUBLISH
X-WR-CALNAME:CISCRP
X-ORIGINAL-URL:https://legacy.ciscrp.org
X-WR-CALDESC:Events for CISCRP
BEGIN:VTIMEZONE
TZID:America/Denver
BEGIN:DAYLIGHT
TZOFFSETFROM:-0700
TZOFFSETTO:-0600
TZNAME:MDT
DTSTART:20210314T090000
END:DAYLIGHT
BEGIN:STANDARD
TZOFFSETFROM:-0600
TZOFFSETTO:-0700
TZNAME:MST
DTSTART:20211107T080000
END:STANDARD
END:VTIMEZONE
BEGIN:VEVENT
DTSTART;TZID=America/Denver:20211021T180000
DTEND;TZID=America/Denver:20211021T190000
DTSTAMP:20260420T202244
CREATED:20210202T155454Z
LAST-MODIFIED:20220118T140920Z
UID:18150-1634839200-1634842800@legacy.ciscrp.org
SUMMARY:AWARE for All – Southwest | VIRTUAL Event
DESCRIPTION:Informational Exhibit Center and Webinar				\n				\n					\n		\n					\n		\n				\n						\n					\n			\n						\n				\n									\n					\n						\n						\n							\n									Webinar recording: English\n					\n					\n				\n								\n				\n					\n		\n				\n			\n						\n				\n									\n					\n						\n						\n							\n									Visit the Informational Exhibit Center\n					\n					\n				\n								\n				\n					\n		\n				\n			\n						\n				\n									\n					\n						\n						\n							\n									Webinar Recording: Español\n					\n					\n				\n								\n				\n					\n		\n					\n		\n				\n				\n									\n					\n						\n									Event Overview Article    \n					\n					\n				\n								\n				\n				\n				\n																														\n				\n				\n						\n					\n			\n						\n				\n									\n					\n						\n						\n							\n									Access the Webinar\n					\n					\n				\n								\n				\n					\n		\n				\n			\n						\n				\n									\n					\n						\n						\n							\n									Visit the Virtual Health Fair\n					\n					\n				\n								\n				\n					\n		\n					\n		\n				\n				\n																														\n				\n				\n				\n							\n			\n						\n		\n						\n				\n				\n						\n					\n			\n						\n				\n									Download the Event Program Handbook 								\n				\n				\n				\n							\n			\n		\n						\n				\n					\n		\n				\n			\n						\n				\n									\n					\n						\n									English\n					\n					\n				\n								\n				\n					\n		\n				\n			\n						\n				\n									\n					\n						\n									Español\n					\n					\n				\n								\n				\n					\n		\n					\n		\n					\n		\n					\n		\n				\n						\n					\n			\n						\n				\n									The AWARE for All – Southwest educational event includes communities in Southern California\, Texas\, Arizona\, Nevada\, and Colorado.								\n				\n				\n				\n									Taking good care of your health is one of the most important things you can do for yourself.At the AWARE for All – Southwest Webinar and Informational Exhibit Center\, you’ll: Hear personal stories from people who have participated in clinical trials and why they chose to participateFind out how healthcare professionals help people participating in clinical trialsVisit over 30 organizations in the Informational Exhibit Center to access health information\, read brief stories from people who have participated in a clinical trial\, visit the Health & Wellness Pavilion\, and more!Receive a free downloadable booklet with  helpful information about clinical trials—available in English and Spanish								\n				\n				\n				\n									Webinar Agenda 6:00 PM—6:05 PM: Welcome from CISCRP6:05 PM – 6:15 PM: Clinical Research Overview Video6:15 PM—6:55 PM: Panel Discussion + Q&ACharlene Upshaw\, Breast Cancer Trial ParticipantAngie Volk\, Multiple Sclerosis Trial ParticipantLisa Treviño\, Vice President\, DHR Health Institute for Research and DevelopmentAl-Malik Edwards\, Recruitment Specialist\, Excell ResearchBecky Johnson\, Director\, Global Diversity & Inclusion in Clinical Trials\, IQVIACarmen White\, Director\, Multi-Cultural Participant Experience Lead\, PfizerModerated by Ken Getz\, Founder & CEO\, CISCRP6:55 PM—7:00 PM: Med Hero Ceremony & Raffle
URL:https://legacy.ciscrp.org/event/aware-for-all-southwest-virtual-event/
LOCATION:Southwest\, Southwest Region\, United States
CATEGORIES:AWARE for All
END:VEVENT
END:VCALENDAR