BEGIN:VCALENDAR
VERSION:2.0
PRODID:-//CISCRP - ECPv5.16.4//NONSGML v1.0//EN
CALSCALE:GREGORIAN
METHOD:PUBLISH
X-WR-CALNAME:CISCRP
X-ORIGINAL-URL:https://legacy.ciscrp.org
X-WR-CALDESC:Events for CISCRP
BEGIN:VTIMEZONE
TZID:America/Boise
BEGIN:DAYLIGHT
TZOFFSETFROM:-0700
TZOFFSETTO:-0600
TZNAME:MDT
DTSTART:20210314T090000
END:DAYLIGHT
BEGIN:STANDARD
TZOFFSETFROM:-0600
TZOFFSETTO:-0700
TZNAME:MST
DTSTART:20211107T080000
END:STANDARD
END:VTIMEZONE
BEGIN:VEVENT
DTSTART;TZID=America/Boise:20210520T163000
DTEND;TZID=America/Boise:20210520T180000
DTSTAMP:20260420T202007
CREATED:20210201T165905Z
LAST-MODIFIED:20211208T144530Z
UID:18133-1621528200-1621533600@legacy.ciscrp.org
SUMMARY:AWARE for All – Northwest | VIRTUAL Event
DESCRIPTION:Informational Exhibit Center and Webinar				\n				\n				\n						\n					\n			\n						\n				\n									\n					\n						\n						\n							\n									Access the Webinar Recording\n					\n					\n				\n								\n				\n					\n		\n				\n			\n						\n				\n									\n					\n						\n						\n							\n									Visit the Informational Exhibit Center\n					\n					\n				\n								\n				\n					\n		\n					\n		\n				\n				\n																														\n				\n				\n						\n					\n			\n						\n				\n									\n					\n						\n						\n							\n									Access the Webinar\n					\n					\n				\n								\n				\n					\n		\n				\n			\n						\n				\n									\n					\n						\n						\n							\n									Visit the Virtual Health Fair\n					\n					\n				\n								\n				\n					\n		\n					\n		\n				\n				\n																														\n				\n				\n				\n							\n			\n						\n		\n						\n				\n					\n		\n					\n		\n				\n						\n					\n			\n						\n				\n									New and expanded format. The AWARE for All – Northwest educational event covers the Washington\, Oregon\, Idaho\, Montana\, and Northern California areas with a specific focus on these therapeutic areas and medical conditions: 								\n				\n				\n						\n					\n			\n						\n				\n									Neurology/Multiple SclerosisInfectious Disease/COVID-19Oncology/Cancer								\n				\n					\n		\n				\n			\n							\n		\n					\n		\n				\n				\n									You have an opportunity to visit the Informational Exhibit Center that offers more friendly\, informative resources about clinical trials\, these specific medical conditions and others\, helpful health tips and exercises\, and the ability to connect with health and wellness organizations in your own community.Taking good care of your health is one of the most important things you can do for yourself. At the AWARE for All – Northwest Webinar and Informational Exhibit Center\,  you can: Learn about clinical trials and what’s involved in the processHear first-hand experiences from clinical trial participants and research professionalsAsk any questions you have along the wayVisit health and wellness organizations from the Northwest and across the country in our Informational Exhibit CenterAccess health tips and exercises in our Health & Wellness Pavilion								\n				\n				\n				\n							\n			\n		\n						\n				\n				\n						\n					\n			\n						\n				\n									Download the Event  Program Handbook 								\n				\n					\n		\n				\n			\n						\n				\n									\n					\n						\n									English\n					\n					\n				\n								\n				\n					\n		\n				\n			\n						\n				\n									\n					\n						\n									Español\n					\n					\n				\n								\n				\n					\n		\n					\n		\n				\n				\n							\n			\n		\n						\n				\n				\n				\n									Webinar Agenda 4:30 PM—4:35 PM: Welcome from CISCRP4:35 PM – 4:40 PM: Recognizing Research Professionals Who Participated in COVID-19 Trials Video4:40 PM—5:10 PM: Overview Presentation + Q&A5:10 PM—5:40 PM: Panel DiscussionHelen Russon\, MS Trial ParticipantDesiree Deluca-Johnson\, Breast Cancer Trial Participant & Manager of Trial Curation and Public Education\, BreastCancerTrials.orgDr. Rachel Bender Ignacio\, Assistant Professor & Director\, UW AIDS Clinical Trials Unit | Medical Director\, COVID-19 Clinical Research Center\, Fred Hutchinson Cancer Research CenterPatrick Ezeh\, Director\, Clinical Operations Program Leadership\, BiogenLuis Arroyo\, Specialist\, Diversity\, Equity & Inclusion in Clinical Trials\, Janssen5:40 PM—5:50 PM: Q&A5:50 PM—5:55 PM: Virtual Health Exercise5:55 PM—6:00 PM: Med Hero Ceremony & Raffle*
URL:https://legacy.ciscrp.org/event/aware-for-all-northwest-virtual-event/
LOCATION:Northwest\, Northwest Region\, United States
CATEGORIES:AWARE for All
END:VEVENT
END:VCALENDAR