BEGIN:VCALENDAR
VERSION:2.0
PRODID:-//CISCRP - ECPv5.16.4//NONSGML v1.0//EN
CALSCALE:GREGORIAN
METHOD:PUBLISH
X-WR-CALNAME:CISCRP
X-ORIGINAL-URL:https://legacy.ciscrp.org
X-WR-CALDESC:Events for CISCRP
BEGIN:VTIMEZONE
TZID:America/New_York
BEGIN:DAYLIGHT
TZOFFSETFROM:-0500
TZOFFSETTO:-0400
TZNAME:EDT
DTSTART:20190310T070000
END:DAYLIGHT
BEGIN:STANDARD
TZOFFSETFROM:-0400
TZOFFSETTO:-0500
TZNAME:EST
DTSTART:20191103T060000
END:STANDARD
END:VTIMEZONE
BEGIN:VEVENT
DTSTART;TZID=America/New_York:20191107T170000
DTEND;TZID=America/New_York:20191107T200000
DTSTAMP:20260420T193348
CREATED:20190508T150257Z
LAST-MODIFIED:20191108T232000Z
UID:11247-1573146000-1573156800@legacy.ciscrp.org
SUMMARY:AWARE for All - Long Island\, NY
DESCRIPTION:REGISTER NOW\n					\n					\n				\n								\n				\n					\n		\n				\n			\n						\n				\n									\n					\n						\n									DONATE TODAY\n					\n					\n				\n								\n				\n					\n		\n				\n			\n						\n				\n									\n					\n						\n									EVENT HANDBOOK\n					\n					\n				\n								\n				\n					\n		\n					\n		\n					\n		\n					\n		\n				\n						\n					\n			\n						\n				\n									On November 7\, 2019 in Long Island\, NY\, local community members\, patients\, and research professionals will come together to learn about clinical research\, get free health screenings\, and hear from physician and patient speakers. AWARE for All is a free educational program that provides valuable information and resources on the clinical research process to help people make informed decisions about participation. The event serves as a platform for dialogue between local patients\, members of the public\, and research professionals. This program is made possible by the incredible community partners we collaborate with in every city. For more information\, please contact us at awareforall@ciscrp.org or call us at 617-725-2750. EVENT SCHEDULEHealth Screenings & Informational Alley: 5:00PM to 8:00PMOpening Talk & Panel Discussions: 6:00PMMedical Heroes Appreciation Ceremony: 7:45PM to 8:00PM SPEAKERSJohn A. Boockvar\, Lennox Hill HospitalChristina Brennan\, Northwell HealthMark J. Sinnett\, Montefiore Medical CenterLisa Heller\, Study VolunteerDr. Jeannine Villella\, Northwell HealthChristele Felix\, Study VolunteerRaffaella Hart\, BRANY HEALTH SCREENINGSAlcohol ScreeningBlood PressureChlamydiaDental ScreeningFlu VaccinationsGonorrheaHIVHepatitis COral Cancer ScreeningStroke AssessmentSubstance Abuse FAQsDo I have to bring my printed ticket to the event?– No need to do so! We will check your name on our attendee pre-registration list.
URL:https://legacy.ciscrp.org/event/aware-for-all-long-island-ny/
ORGANIZER;CN="CISCRP":MAILTO:awareforall@ciscrp.org
END:VEVENT
END:VCALENDAR