BEGIN:VCALENDAR
VERSION:2.0
PRODID:-//CISCRP - ECPv5.16.4//NONSGML v1.0//EN
CALSCALE:GREGORIAN
METHOD:PUBLISH
X-WR-CALNAME:CISCRP
X-ORIGINAL-URL:https://legacy.ciscrp.org
X-WR-CALDESC:Events for CISCRP
BEGIN:VTIMEZONE
TZID:Europe/Dublin
BEGIN:STANDARD
TZOFFSETFROM:+0000
TZOFFSETTO:+0100
TZNAME:IST
DTSTART:20180325T010000
END:STANDARD
BEGIN:DAYLIGHT
TZOFFSETFROM:+0100
TZOFFSETTO:+0000
TZNAME:GMT
DTSTART:20181028T010000
END:DAYLIGHT
END:VTIMEZONE
BEGIN:VEVENT
DTSTART;TZID=Europe/Dublin:20181205T170000
DTEND;TZID=Europe/Dublin:20181205T200000
DTSTAMP:20260420T182226
CREATED:20180314T225417Z
LAST-MODIFIED:20190807T191330Z
UID:9498-1544029200-1544040000@legacy.ciscrp.org
SUMMARY:AWARE for All - Dublin\, IE
DESCRIPTION:PHOTOS\n					\n					\n				\n								\n				\n					\n		\n				\n			\n						\n				\n									\n					\n						\n									DONATE TODAY\n					\n					\n				\n								\n				\n					\n		\n				\n			\n						\n				\n									\n					\n						\n									EVENT HANDBOOK\n					\n					\n				\n								\n				\n					\n		\n					\n		\n				\n				\n							\n			\n						\n		\n						\n				\n					\n		\n					\n		\n				\n						\n					\n			\n						\n				\n									 On December 5\, 2018 in Dublin\, Ireland\, local community members\, patients\, and research professionals will come together to learn about clinical research\, get free health screenings\, and hear from physician and patient speakers. AWARE for All is a free educational program that provides valuable information and resources on the clinical research process to help people make informed decisions about participation. The event serves as a platform for dialogue between local patients\, members of the public\, and research professionals. This program is made possible by the incredible community partners we collaborate with in every city. Registration is encouraged but not mandatory! We look forward to seeing you on December 5\, 2018 at the Trinity Translational Medicine Institute. For more information\, please contact us at awareforall@ciscrp.org or call us at 617-725-2750. EVENT SCHEDULE5:00PM – 8:00PM: Health Screenings & Informational Alley6:00PM – 6:10PM: A Warm Welcome from CISCRP                                        Ellyn Getz\, CISCRP6:10PM – 6:15PM: Keynote Address                                        Rose Kidd\, ICON6:00PM – 6:45PM: Overview Presentation                                         Dr. Fionnuala Keane\, HRB – CRCI6:45PM – 7:45PM: Panel Discussion About Clinical Research                                      Jillian McNulty\, Cystic Fibrosis Research Champion                                      Patrick Kivlehan\, Oncology Research Champion                                      Dr. Martina Hennessy\, St. James’s Hospital                                      Dr. Tomás Carroll\, Alpha-1 Foundation Ireland\, RCSI                                      Dr. Ruben Keane\, HRB-CRCI\, Mercy University Hospital                                      Dr. Avril Kennan\, Medical Research Charities Group                                      Dr. Margaret Dunne\, Trinity College Dublin                                      Dr. Patrick Murray\, UCD Clinical Research Centre7:45PM – 8:00PM: Closing Ceremony & Hamper Raffle HEALTH SCREENINGSBlood PressurePre-paid Flu Vouchers  FAQsDo I have to bring my printed ticket to the event?– No need to do so! We will check your name on our attendee pre-registration list.
URL:https://legacy.ciscrp.org/event/aware-for-all-dublin-ie/
LOCATION:Trinity Translational Medicine Institute\, Trinity Centre for Health Sciences Trinity College Dublin St. James's Hospital\, Dublin 8\, Ireland
CATEGORIES:AWARE for All
END:VEVENT
END:VCALENDAR