BEGIN:VCALENDAR
VERSION:2.0
PRODID:-//CISCRP - ECPv5.16.4//NONSGML v1.0//EN
CALSCALE:GREGORIAN
METHOD:PUBLISH
X-WR-CALNAME:CISCRP
X-ORIGINAL-URL:https://legacy.ciscrp.org
X-WR-CALDESC:Events for CISCRP
BEGIN:VTIMEZONE
TZID:America/Chicago
BEGIN:DAYLIGHT
TZOFFSETFROM:-0600
TZOFFSETTO:-0500
TZNAME:CDT
DTSTART:20170312T080000
END:DAYLIGHT
BEGIN:STANDARD
TZOFFSETFROM:-0500
TZOFFSETTO:-0600
TZNAME:CST
DTSTART:20171105T070000
END:STANDARD
END:VTIMEZONE
BEGIN:VEVENT
DTSTART;TZID=America/Chicago:20171026T170000
DTEND;TZID=America/Chicago:20171026T200000
DTSTAMP:20260420T131028
CREATED:20170623T192133Z
LAST-MODIFIED:20190808T140508Z
UID:7643-1509037200-1509048000@legacy.ciscrp.org
SUMMARY:AWARE for All - Chicago
DESCRIPTION:DONATE TODAY\n					\n					\n				\n								\n				\n					\n		\n				\n			\n						\n				\n									\n					\n						\n									VIEW HANDBOOK\n					\n					\n				\n								\n				\n					\n		\n					\n		\n				\n				\n							\n			\n						\n		\n						\n				\n					\n		\n					\n		\n				\n						\n					\n			\n						\n				\n									On Thursday\, October 26th\, 2017 in Chicago\, local community members\, patients\, and research professionals came together to learn about clinical research\, received free health screenings\, and heard from physician and patient speakers. Health Screenings included Blood Pressure\, Body Mass\, Breast Health/Risk/Self Exams and more! AWARE for All is a free educational program that provides valuable information and resources on the clinical research process to help people make informed decisions about participation. The event serves as a platform for dialogue between local patients\, members of the public\, and research professionals. This program is made possible by the incredible community partners we collaborate with in every city. Handbook »Donate » For more information\, please contact us at awareforall@ciscrp.org or call us at 617-725-2750.  Thank You to Our 2017 Sponsors! Photo Gallery
URL:https://legacy.ciscrp.org/event/aware-for-all-chicago/
CATEGORIES:AWARE for All
ORGANIZER;CN="CISCRP":MAILTO:awareforall@ciscrp.org
END:VEVENT
END:VCALENDAR