BEGIN:VCALENDAR
VERSION:2.0
PRODID:-//CISCRP - ECPv5.16.4//NONSGML v1.0//EN
CALSCALE:GREGORIAN
METHOD:PUBLISH
X-WR-CALNAME:CISCRP
X-ORIGINAL-URL:https://legacy.ciscrp.org
X-WR-CALDESC:Events for CISCRP
BEGIN:VTIMEZONE
TZID:America/Indiana/Knox
BEGIN:DAYLIGHT
TZOFFSETFROM:-0600
TZOFFSETTO:-0500
TZNAME:CDT
DTSTART:20220313T080000
END:DAYLIGHT
BEGIN:STANDARD
TZOFFSETFROM:-0500
TZOFFSETTO:-0600
TZNAME:CST
DTSTART:20221106T070000
END:STANDARD
END:VTIMEZONE
BEGIN:VEVENT
DTSTART;TZID=America/Indiana/Knox:20220309T170000
DTEND;TZID=America/Indiana/Knox:20220309T200000
DTSTAMP:20260420T201851
CREATED:20211229T145614Z
LAST-MODIFIED:20220523T192340Z
UID:30574-1646845200-1646856000@legacy.ciscrp.org
SUMMARY:Journey to Better Health | AWARE for All-Birmingham
DESCRIPTION:Thank You For Attending Journey to Better Health | AWARE for All-Birmingham				\n				\n					\n		\n					\n		\n				\n						\n					\n			\n						\n				\n									This free community event was held on March 9th\, from 5-8PM at The Harbert Center in downtown Birmingham\, AL. Attendees had the opportunity to to learn more about clinical trials\, hear personal experiences from those who are involved in them\, and also connect with a variety of local organizations to find out more about their programs and services.  								\n				\n				\n						\n					\n			\n						\n				\n									Hear From: \n\nJeh Jeh Pruitt\, Sports Anchor & Reporter\, FOX 6 News\nJane Allendorfer\, Ph.D\, Assistant Professor\, Department of Neurology\, University of Alabama at Birmingham\nDel Smith\, Founder & CEO\, Acclinate\nMonica Baskin\, Ph.D\, Professor\, Preventative Medicine and Associate Director\, Community Outreach and Engagement\, University of Alabama at Birmingham- O’Neal Comprehensive Cancer Center\n\nKevin Jones\, Clinical Country & Site Lead – US\, GlobalClinical Operations\, Biogen \n\nShauntice Allen\, Ph.D\, Assistant Professor\, University of Alabama Birmingham\, School of Public Health\, Clinical Trial Participant\n								\n				\n				\n				\n									Event Agenda: •5:00 PM: The Informational Exhibit Center opens Access free health screenings and visit exhibits from research\, advocacy\, community\, and wellness organizations.6:00 PM: Welcome & Opening Remarks6:10-6:30 PM: Clinical Research Overview PresentationPresented by Abi Kulshreshtha\, Chief of Staff at Southern Research InstituteTopics include: the basics of the clinical trial process\, the safeguards in place\, the importance of diversity in trials\, and more.• 6:30-7:30 PM: Speaker Panel Hear from knowledgeable healthcare and research professionals\, and from community members who have participated in a clinical trial.• 7:30-7:45 PM: Closing Remarks & Raffle 								\n				\n					\n		\n					\n		\n				\n						\n					\n			\n						\n				\n									Download the Event Program Handbook 								\n				\n					\n		\n				\n			\n						\n				\n									\n					\n						\n									View Here
URL:https://legacy.ciscrp.org/event/aware-for-all-birmingham/
LOCATION:The Harbert Center\, 2019 4th Ave North\, Birmingham\, Alabama\, 35203\, United States
CATEGORIES:AWARE for All
END:VEVENT
END:VCALENDAR