BEGIN:VCALENDAR
VERSION:2.0
PRODID:-//CISCRP - ECPv5.16.4//NONSGML v1.0//EN
CALSCALE:GREGORIAN
METHOD:PUBLISH
X-WR-CALNAME:CISCRP
X-ORIGINAL-URL:https://legacy.ciscrp.org
X-WR-CALDESC:Events for CISCRP
BEGIN:VTIMEZONE
TZID:America/New_York
BEGIN:DAYLIGHT
TZOFFSETFROM:-0500
TZOFFSETTO:-0400
TZNAME:EDT
DTSTART:20190310T070000
END:DAYLIGHT
BEGIN:STANDARD
TZOFFSETFROM:-0400
TZOFFSETTO:-0500
TZNAME:EST
DTSTART:20191103T060000
END:STANDARD
END:VTIMEZONE
BEGIN:VEVENT
DTSTART;TZID=America/New_York:20190417T170000
DTEND;TZID=America/New_York:20190417T200000
DTSTAMP:20260420T204806
CREATED:20181112T160642Z
LAST-MODIFIED:20190701T175129Z
UID:10737-1555520400-1555531200@legacy.ciscrp.org
SUMMARY:AWARE for All - Baltimore\, MD
DESCRIPTION:REGISTER NOW\n					\n					\n				\n								\n				\n					\n		\n				\n			\n						\n				\n									\n					\n						\n									DONATE TODAY\n					\n					\n				\n								\n				\n					\n		\n				\n			\n						\n				\n									\n					\n						\n									EVENT HANDBOOK\n					\n					\n				\n								\n				\n					\n		\n					\n		\n				\n				\n							\n			\n						\n		\n						\n				\n					\n		\n					\n		\n				\n						\n					\n			\n						\n				\n									On April 17\, 2019 in Baltimore\, Maryland\, local community members\, patients\, and research professionals will come together to learn about clinical research\, get free health screenings\, and hear from physician and patient speakers AWARE for All is a free educational program that provides valuable information and resources on the clinical research process to help people make informed decisions about participation. The event serves as a platform for dialogue between local patients\, members of the public\, and research professionals. This program is made possible by the incredible community partners we collaborate with in every city. For more information\, please contact us at awareforall@ciscrp.org or call us at 1-877-633-4376. EVENT SCHEDULEHealth Screenings & Informational Alley: 5:00PM to 8:00PMOpening Talk & Panel Discussions: 6:00PMOpening Remarks and Keynote – Sean Soth & Casey Orvin\, SCRSOverview Presentation – Dina Lansey\, Johns Hopkins UniversityModerator – Ken Getz\, CISCRP Panel 1Gail Graham\, Study VolunteerBernie Maas\, Study VolunteerStephen Murphy\, Study Volunteer Panel 2Dr. Rodrigo Garcia\, EMD SeronoMary Hesdorffer\, Mesothelioma Applied Research FoundationPetros Okubagzi\, MedStar Health Research InstituteDr. Fabian Sandoval\, Emerson Clinical Research Institute Medical Heroes Appreciation Ceremony: 7:45PM to 8:00PM HEALTH SCREENINGSBlood PressureHIVHepatitis CPediatric A1cGlaucomaOral CancerDepressionAnxietyPTSDBipolar DisorderFAQsDo I have to bring my printed ticket to the event?– No need to do so! We will check your name on our attendee pre-registration list.
URL:https://legacy.ciscrp.org/event/aware-for-all-baltimore-md/
LOCATION:Johns Hopkins Turner Auditorium\, 720 Rutland Avenue\, Baltimore\, MD\, 21205\, United States
CATEGORIES:AWARE for All
ORGANIZER;CN="CISCRP":MAILTO:awareforall@ciscrp.org
END:VEVENT
END:VCALENDAR