BEGIN:VCALENDAR
VERSION:2.0
PRODID:-//CISCRP - ECPv5.16.4//NONSGML v1.0//EN
CALSCALE:GREGORIAN
METHOD:PUBLISH
X-WR-CALNAME:CISCRP
X-ORIGINAL-URL:https://legacy.ciscrp.org
X-WR-CALDESC:Events for CISCRP
BEGIN:VTIMEZONE
TZID:America/New_York
BEGIN:DAYLIGHT
TZOFFSETFROM:-0500
TZOFFSETTO:-0400
TZNAME:EDT
DTSTART:20210314T070000
END:DAYLIGHT
BEGIN:STANDARD
TZOFFSETFROM:-0400
TZOFFSETTO:-0500
TZNAME:EST
DTSTART:20211107T060000
END:STANDARD
END:VTIMEZONE
BEGIN:VEVENT
DTSTART;TZID=America/New_York:20211116T180000
DTEND;TZID=America/New_York:20211118T190000
DTSTAMP:20260420T232726
CREATED:20210202T192320Z
LAST-MODIFIED:20220118T142916Z
UID:18171-1637085600-1637262000@legacy.ciscrp.org
SUMMARY:AWARE for All – Atlanta | Virtual Event
DESCRIPTION:Join us  6-7pm EST each night on November 16\, 17\, and 18\n\n				\n				\n				\n						\n					\n			\n						\n				\n									\n					\n						\n									Access the November 16th Webinar Recording\n					\n					\n				\n								\n				\n					\n		\n				\n			\n						\n				\n									\n					\n						\n									Access the November 17th Webinar Recording\n					\n					\n				\n								\n				\n					\n		\n				\n			\n						\n				\n									\n					\n						\n									Access the November 18th Webinar Recording\n					\n					\n				\n								\n				\n					\n		\n					\n		\n				\n						\n					\n			\n						\n				\n									\n					\n						\n									Visit the Informational Exhibit Center\n					\n					\n				\n								\n				\n					\n		\n				\n			\n							\n		\n				\n			\n						\n				\n									\n					\n						\n									Event Overview Article\n					\n					\n				\n								\n				\n					\n		\n					\n		\n				\n				\n									 \nAWARE for All – Atlanta is a virtual educational event.\nClinical trials save lives. Learn about the clinical trial process and how you can get involved. \nAt the AWARE for All – Atlanta educational event\, you’ll: \n\nHear personal stories from people who have participated in clinical trials and why they chose to participate\nListen to healthcare professionals on how they help people participating in clinical trials\nVisit over 30 organizations in the Informational Exhibit Center to access health and wellness resources.\nReceive a free booklet with  helpful information about clinical trials\n\nHear From: \nNovember 16th: Rabih Dahdouh\, Overview Presenter \nNovember 17th Panel Discussion  \n\n\n\nTina Berry\, Oncology Trial Participant and Project Manager at Northside Hospital Cancer Institute\nTerp Vairin\, Mental Health/Depression Trial Participant\nMelissa Hardman\, Trial Participant\, Founder & CEO of Faces of Research\, LLC\nAshley Nealy\, COVID-19 Trial Participant\nGlenn Bachmann\, Lymphoma Trial Participant\n\n\n\nNovember 18th Panel Discussion \n\n\n\nPhyllis Kaplan\, Diabetes Trial Participant\, Sr. Manager of Events & Community Engagement at CISCRP\nMeghan Mckenzie\, Principal Inclusion\, Internal Partnering in Chief Diversity Office at Genentech\nLeah Szumita\, Director of the Clinical Trial Support Center for the Leukemia & Lymphoma Society\nZach Mitchell\, Director of Business Operations & Recruitment at iResearch\nTamara Wakhisi\, Medical-Surgical Research Supervisor\, Oncology at Northside Hospital – Central Research Department\nYolanda Little Diverse Patient Recruitment and Retention\, Novartis\nMary Slomkowski\, Director\, Clinical Management CNS\, Otsuka\n\n\n\nWe’re excited for you to join us this November to learn more about clinical trials and how they work. 								\n				\n				\n						\n					\n			\n						\n				\n									Download the Event Program Handbook 								\n				\n					\n		\n				\n			\n						\n				\n									\n					\n						\n									View Here
URL:https://legacy.ciscrp.org/event/aware-for-all-atlanta-virtual-event/
CATEGORIES:AWARE for All
END:VEVENT
END:VCALENDAR