BEGIN:VCALENDAR
VERSION:2.0
PRODID:-//CISCRP - ECPv5.16.4//NONSGML v1.0//EN
CALSCALE:GREGORIAN
METHOD:PUBLISH
X-WR-CALNAME:CISCRP
X-ORIGINAL-URL:https://legacy.ciscrp.org
X-WR-CALDESC:Events for CISCRP
BEGIN:VTIMEZONE
TZID:America/New_York
BEGIN:DAYLIGHT
TZOFFSETFROM:-0500
TZOFFSETTO:-0400
TZNAME:EDT
DTSTART:20180311T070000
END:DAYLIGHT
BEGIN:STANDARD
TZOFFSETFROM:-0400
TZOFFSETTO:-0500
TZNAME:EST
DTSTART:20181104T060000
END:STANDARD
END:VTIMEZONE
BEGIN:VEVENT
DTSTART;TZID=America/New_York:20180419T170000
DTEND;TZID=America/New_York:20180419T200000
DTSTAMP:20260420T140723
CREATED:20170608T145117Z
LAST-MODIFIED:20190807T182646Z
UID:7610-1524157200-1524168000@legacy.ciscrp.org
SUMMARY:AWARE for All - D.C.
DESCRIPTION:DONATE TODAY\n					\n					\n				\n								\n				\n					\n		\n				\n			\n						\n				\n									\n					\n						\n									FAST FACTS\n					\n					\n				\n								\n				\n					\n		\n				\n			\n						\n				\n									\n					\n						\n									VIEW HANDBOOK\n					\n					\n				\n								\n				\n					\n		\n					\n		\n				\n				\n							\n			\n						\n		\n						\n				\n					\n		\n					\n		\n				\n						\n					\n			\n						\n				\n									On Thursday\, April 19th\, 2018 in Washington\, D.C.\, local community members\, patients\, and research professionals will come together to learn about clinical research\, get free health screenings\, and hear from physician and patient speakers.AWARE for All is a free educational program that provides valuable information and resources on the clinical research process to help people make informed decisions about participation. The event serves as a platform for dialogue between local patients\, members of the public\, and research professionals. This program is made possible by the incredible community partners we collaborate with in every city. Registration is encouraged but not mandatory! We look forward to seeing you on Thursday\, April 19th\, 2018 at the Armour J. Blackburn University Center at Howard University.   Thank You to Our 2018 Supporters!  Powered by EventbritePhoto GalleryFor more information\, please contact us at awareforall@ciscrp.org or call us at 617-725-2750.
URL:https://legacy.ciscrp.org/event/aware-d-c/
CATEGORIES:AWARE for All
ORGANIZER;CN="AWARE%20for%20All":MAILTO:awareforall@ciscrp.org
END:VEVENT
END:VCALENDAR